Workbook

Sheet 식단표(주간)
A1: 2026년 10월 4주 식단표
A2: ♥하트 표시된 메뉴는 게시판에 학생들이 적은 희망 식단입니다^-^♥하나씩 반영중이니 조금만 기다려주세요♥
A3: =조식!G5 -> 10월 19일(월) | C3: =조식!H5 -> 10월 20일(화) | E3: =조식!I5 -> 10월 21일(수) | G3: =조식!J5 -> 10월 22일(목) | I3: =조식!K5 -> 10월 23일(금)
A4: 조 식 | B4: =조식!G6 -> ㆍ찹쌀밥 ㆍ유부김치국(5.9) ㆍ꽈리고추건새우볶음(5.6.9.12.13) ㆍ한우당면불고기(5.6.13.16) ㆍ총각김치(9) ㆍ허니버터아몬드♥ | C4: 조 식 | D4: =조식!H6 -> ㆍ누룽지탕 ㆍ메이플피칸파이♥(1.2.5.6) ㆍ참치김치덮밥(5.6.9.13) ㆍ닭가슴살샐러드(1.2.5.6.15) ㆍ함박스테이크(1.2.5.6.10.12.13.15.16) ㆍ깍두기(9) | E4: 조 식 | F4: =조식!I6 -> ㆍ찹쌀밥 ㆍ얼큰수제비(1.5.6.15.18) ㆍ단호박사태떡찜♥(5.6.10) ㆍ에그랑땡&케찹(1.2.5.6.10.12.15.16) ㆍ깍두기(9) ㆍ시리얼_(그래놀라/오레오)(2.5.6) | G4: 조 식 | H4: =조식!J6 -> ㆍ찹쌀밥 ㆍ쇠고기미역국(5.6.16) ㆍ메추리알어묵조림(1.5.6.13) ㆍ배추김치(9) ㆍ모닝빵&딸기쨈(1.2.5.6.13) ㆍ초코우유(2) | I4: 조 식 | J4: =조식!K6 -> ㆍ찹쌀밥 ㆍ계란파국(1) ㆍ베이컨감자채볶음(5.10) ㆍ삼겹김치볶음(9.10) ㆍ깍두기(9) ㆍ생크림크로칸슈♥(1.2.5.6) ㆍ시리얼_(첵스/콘푸)(2.5.6)
A9: 중 식 | B9: =중식!G6 -> ㆍ기장밥 ㆍ한방닭곰탕(15) ㆍ고구마순나물볶음(5.6.13) ㆍ새송이버섯전(1.5) ㆍ두툼떡갈비&어린잎(5.6.10.12.13.15.16.18) ㆍ배추김치(9) ㆍ설빙다크초코넛츠♥(2.4.14.19) | C9: 중 식 | D9: =중식!H6 -> ㆍ쇠고기볶음밥(1.2.5.6.10.15.16) ㆍ맑은콩나물국(5.8.9.18) ㆍ오이피클 ㆍ계란말이&케찹(1.5.12) ㆍ배추김치(9) ㆍ파인애플 ㆍ피자토스트(수제)♥(1.2.5.6.10.12.13.15.16) | E9: 중 식 | G9: 중 식 | H9: =중식!J6 -> ㆍ현미밥 ㆍ우거지된장국(5.6.13.16) ㆍ숙주나물무침 ㆍ치즈닭갈비(2.5.6.15) ㆍ깻잎전&초간장(1.5.6.10.15.16) ㆍ배추김치(9) ㆍ사과 | I9: 중 식 | J9: ♠국 없는 날♠
F10: =중식!I6 -> ㆍ쌀국수♥(1.2.5.6.13.16) ㆍ과일샐러드(요거트드레싱)(2.5.6.12.13) ㆍ새우짜조롤&칠리S(1.5.6.9.12.13) ㆍ흰밥&김자반(자율)(5) ㆍ깍두기(9) ㆍ레몬에이드 ㆍ반미핫도그(1.2.5.6.10.12.13.15.16.18) | J10: =중식!K6 -> ㆍ누룽지탕 ㆍ오므라이스&데미S(1.2.5.6.10.12.13.15.16) ㆍ목살찹스테이크(5.6.10.12.13.16) ㆍ스마일감자&케찹(5.6.12) ㆍ깍두기(9) ㆍ사과데이 ★ 사과주스(13)
A15: 석 식 | B15: =석식!G6 -> ㆍ꼬치어묵우동(1.5.6.9.13) ㆍ양상추샐러드/흑임자드레싱(1.5.12.13) ㆍ돈까스김치나베♥(1.2.5.6.7.9.10.13.18) ㆍ흰밥&김자반(자율)(5) ㆍ단무지 ㆍ배 | C15: 석 식 | D15: =석식!H6 -> ㆍ찹쌀밥 ㆍ꽃게된장국(5.6.8) ㆍ양배추쌈/쌈장(5.6) ㆍ오삼불고기(5.6.10.13.17) ㆍ뿌링치즈볼♥(1.2.5.6.13) ㆍ보쌈김치(9) | E15: 석 식 | F15: =석식!I6 -> ㆍ콩나물밥&양념장(5.6.16) ㆍ뼈없는감자탕(5.6.10) ㆍ간장닭봉조림(1.5.6.13.15.18) ㆍ야채달걀찜(1.2.9) ㆍ배추김치(9) ㆍ초코크레이프케이크♥(1.2.5.6) | G15: 석 식 | H15: =석식!J6 -> ㆍ고기짬뽕♥(2.5.6.9.10.17.18) ㆍ단무지무침(13) ㆍ오이맛살냉채(1.5.6.8.13) ㆍ레몬크림새우(1.2.5.6.9.13) ㆍ흰밥&김자반(자율)(5) ㆍ깍두기(9) | I15: 석 식 | J15: =석식!K6 -> ㆍ찹쌀밥 ㆍ상추&쌈장(5.6.13) ㆍ오징어김치전(1.5.6.9.17) ㆍ도시락김 ㆍ큐브족발♥(5.6.10) ㆍ깍두기(9) ㆍ당이제로주스(13)
A21: ♥ 알레르기 정보 -①난류 ②우유 ③메밀 ④땅콩 ⑤대두 ⑥밀 ⑦고등어 ⑧게 ⑨새우 ⑩돼지고기 ⑪복숭아 ⑫토마토 ⑬아황산염 ⑭호두 ⑮닭고기 ⑯쇠고기 ⑰오징어 ⑱조개류(굴,전복,홍합 등) ⑲잣 해당 식품에 특정 증상을 보이는 학생 또는 기타 표기되지 않은 식품에도 알레르기 증상을 보이는 학생들은 급식 시 각별한 주의를 부탁합니다.
A22: ♥ 식단은 학교 사정과 식품 수급 사정으로 인해 변경될 수 있습니다.
A23: ♥ 북일여고 급식은 인공조미료를 사용하지 않고 멸치, 다시마, 무, 양파 등 천연재료로 맛을 내고 있습니다.
A24: ♥ 식재료 원산지
A25: 쌀(찹쌀)/잡곡 | C25: 김치(배추, 얼갈이, 봄동 등/고춧가루) | E25: 쇠고기/가공품 | G25: 돼지고기/가공품 | I25: 닭고기/달걀/가공품
A26: 국내산(천안산)/국산 | C26: 국내산/국내산 | E26: 국내산(한우 2등급)/국내산 | G26: 국내산(1등급)/국내산 | I26: 국내산/국내산/국내산
A27: 오리고기/가공품 | C27: 두부/콩/콩비지 | E27: 누룽지/죽 | G27: 꽃게/가공품 | I27: 낙지/주꾸미/가공품
A28: 국내산/국내산 | C28: 국내산/국내산/국내산 | E28: 국내산/국내산 | G28: 국내산/별도표시 | I28: 국내산/국내산/국내산
A29: 명태 | C29: 고등어/가공품 | E29: 고등어 | G29: 참조기 | I29: 다랑어
A30: 별도표시 | C30: 국내산/국내산 | E30: 국산 | G30: 별도표시 | I30: 별도표시

Sheet 식단표(일간)
A2: =조식!G5 -> 10월 19일(월) | C2: =조식!H5 -> 10월 20일(화) | E2: =조식!I5 -> 10월 21일(수) | G2: =조식!J5 -> 10월 22일(목) | I2: =조식!K5 -> 10월 23일(금)
A3: 조식 | B3: =조식!G6 -> ㆍ찹쌀밥 ㆍ유부김치국(5.9) ㆍ꽈리고추건새우볶음(5.6.9.12.13) ㆍ한우당면불고기(5.6.13.16) ㆍ총각김치(9) ㆍ허니버터아몬드♥ | C3: 조식 | D3: =조식!H6 -> ㆍ누룽지탕 ㆍ메이플피칸파이♥(1.2.5.6) ㆍ참치김치덮밥(5.6.9.13) ㆍ닭가슴살샐러드(1.2.5.6.15) ㆍ함박스테이크(1.2.5.6.10.12.13.15.16) ㆍ깍두기(9) | E3: 조식 | F3: =조식!I6 -> ㆍ찹쌀밥 ㆍ얼큰수제비(1.5.6.15.18) ㆍ단호박사태떡찜♥(5.6.10) ㆍ에그랑땡&케찹(1.2.5.6.10.12.15.16) ㆍ깍두기(9) ㆍ시리얼_(그래놀라/오레오)(2.5.6) | G3: 조식 | H3: =조식!J6 -> ㆍ찹쌀밥 ㆍ쇠고기미역국(5.6.16) ㆍ메추리알어묵조림(1.5.6.13) ㆍ배추김치(9) ㆍ모닝빵&딸기쨈(1.2.5.6.13) ㆍ초코우유(2) | I3: 조식 | J3: =조식!K6 -> ㆍ찹쌀밥 ㆍ계란파국(1) ㆍ베이컨감자채볶음(5.10) ㆍ삼겹김치볶음(9.10) ㆍ깍두기(9) ㆍ생크림크로칸슈♥(1.2.5.6) ㆍ시리얼_(첵스/콘푸)(2.5.6)
A4: 중식 | B4: =중식!G6 -> ㆍ기장밥 ㆍ한방닭곰탕(15) ㆍ고구마순나물볶음(5.6.13) ㆍ새송이버섯전(1.5) ㆍ두툼떡갈비&어린잎(5.6.10.12.13.15.16.18) ㆍ배추김치(9) ㆍ설빙다크초코넛츠♥(2.4.14.19) | C4: 중식 | D4: =중식!H6 -> ㆍ쇠고기볶음밥(1.2.5.6.10.15.16) ㆍ맑은콩나물국(5.8.9.18) ㆍ오이피클 ㆍ계란말이&케찹(1.5.12) ㆍ배추김치(9) ㆍ파인애플 ㆍ피자토스트(수제)♥(1.2.5.6.10.12.13.15.16) | E4: 중식 | G4: 중식 | H4: =중식!J6 -> ㆍ현미밥 ㆍ우거지된장국(5.6.13.16) ㆍ숙주나물무침 ㆍ치즈닭갈비(2.5.6.15) ㆍ깻잎전&초간장(1.5.6.10.15.16) ㆍ배추김치(9) ㆍ사과 | I4: 중식 | J4: ♠국 없는 날♠
F5: =중식!I6 -> ㆍ쌀국수♥(1.2.5.6.13.16) ㆍ과일샐러드(요거트드레싱)(2.5.6.12.13) ㆍ새우짜조롤&칠리S(1.5.6.9.12.13) ㆍ흰밥&김자반(자율)(5) ㆍ깍두기(9) ㆍ레몬에이드 ㆍ반미핫도그(1.2.5.6.10.12.13.15.16.18) | J5: =중식!K6 -> ㆍ누룽지탕 ㆍ오므라이스&데미S(1.2.5.6.10.12.13.15.16) ㆍ목살찹스테이크(5.6.10.12.13.16) ㆍ스마일감자&케찹(5.6.12) ㆍ깍두기(9) ㆍ사과데이 ★ 사과주스(13)
A6: 석식 | B6: =석식!G6 -> ㆍ꼬치어묵우동(1.5.6.9.13) ㆍ양상추샐러드/흑임자드레싱(1.5.12.13) ㆍ돈까스김치나베♥(1.2.5.6.7.9.10.13.18) ㆍ흰밥&김자반(자율)(5) ㆍ단무지 ㆍ배 | C6: 석식 | D6: =석식!H6 -> ㆍ찹쌀밥 ㆍ꽃게된장국(5.6.8) ㆍ양배추쌈/쌈장(5.6) ㆍ오삼불고기(5.6.10.13.17) ㆍ뿌링치즈볼♥(1.2.5.6.13) ㆍ보쌈김치(9) | E6: 석식 | F6: =석식!I6 -> ㆍ콩나물밥&양념장(5.6.16) ㆍ뼈없는감자탕(5.6.10) ㆍ간장닭봉조림(1.5.6.13.15.18) ㆍ야채달걀찜(1.2.9) ㆍ배추김치(9) ㆍ초코크레이프케이크♥(1.2.5.6) | G6: 석식 | H6: =석식!J6 -> ㆍ고기짬뽕♥(2.5.6.9.10.17.18) ㆍ단무지무침(13) ㆍ오이맛살냉채(1.5.6.8.13) ㆍ레몬크림새우(1.2.5.6.9.13) ㆍ흰밥&김자반(자율)(5) ㆍ깍두기(9) | I6: 석식 | J6: =석식!K6 -> ㆍ찹쌀밥 ㆍ상추&쌈장(5.6.13) ㆍ오징어김치전(1.5.6.9.17) ㆍ도시락김 ㆍ큐브족발♥(5.6.10) ㆍ깍두기(9) ㆍ당이제로주스(13)
A7: * 알레르기 정보 -①난류 ②우유 ③메밀 ④땅콩 ⑤대두 ⑥밀 ⑦고등어 ⑧게 ⑨새우 ⑩돼지고기 ⑪복숭아 ⑫토마토 ⑬아황산염 ⑭호두 ⑮닭고기 ⑯쇠고기 ⑰오징어 ⑱조개류(굴,전복,홍합 등) ⑲잣 | C7: * 알레르기 정보 -①난류 ②우유 ③메밀 ④땅콩 ⑤대두 ⑥밀 ⑦고등어 ⑧게 ⑨새우 ⑩돼지고기 ⑪복숭아 ⑫토마토 ⑬아황산염 ⑭호두 ⑮닭고기 ⑯쇠고기 ⑰오징어 ⑱조개류(굴,전복,홍합 등) ⑲잣 | E7: * 알레르기 정보 -①난류 ②우유 ③메밀 ④땅콩 ⑤대두 ⑥밀 ⑦고등어 ⑧게 ⑨새우 ⑩돼지고기 ⑪복숭아 ⑫토마토 ⑬아황산염 ⑭호두 ⑮닭고기 ⑯쇠고기 ⑰오징어 ⑱조개류(굴,전복,홍합 등) ⑲잣 | G7: * 알레르기 정보 -①난류 ②우유 ③메밀 ④땅콩 ⑤대두 ⑥밀 ⑦고등어 ⑧게 ⑨새우 ⑩돼지고기 ⑪복숭아 ⑫토마토 ⑬아황산염 ⑭호두 ⑮닭고기 ⑯쇠고기 ⑰오징어 ⑱조개류(굴,전복,홍합 등) ⑲잣 | I7: * 알레르기 정보 -①난류 ②우유 ③메밀 ④땅콩 ⑤대두 ⑥밀 ⑦고등어 ⑧게 ⑨새우 ⑩돼지고기 ⑪복숭아 ⑫토마토 ⑬아황산염 ⑭호두 ⑮닭고기 ⑯쇠고기 ⑰오징어 ⑱조개류(굴,전복,홍합 등) ⑲잣

Sheet 조식
C2: 학교급식 식재료 원산지 및 영양표시제
C4: 북일여자고등학교 | J4: (조식)
C5: 주간 학교급식 영양량 | G5: 10월 19일(월) | H5: 10월 20일(화) | I5: 10월 21일(수) | J5: 10월 22일(목) | K5: 10월 23일(금)
G6: ㆍ찹쌀밥 ㆍ유부김치국(5.9) ㆍ꽈리고추건새우볶음(5.6.9.12.13) ㆍ한우당면불고기(5.6.13.16) ㆍ총각김치(9) ㆍ허니버터아몬드♥ | H6: ㆍ누룽지탕 ㆍ메이플피칸파이♥(1.2.5.6) ㆍ참치김치덮밥(5.6.9.13) ㆍ닭가슴살샐러드(1.2.5.6.15) ㆍ함박스테이크(1.2.5.6.10.12.13.15.16) ㆍ깍두기(9) | I6: ㆍ찹쌀밥 ㆍ얼큰수제비(1.5.6.15.18) ㆍ단호박사태떡찜♥(5.6.10) ㆍ에그랑땡&케찹(1.2.5.6.10.12.15.16) ㆍ깍두기(9) ㆍ시리얼_(그래놀라/오레오)(2.5.6) | J6: ㆍ찹쌀밥 ㆍ쇠고기미역국(5.6.16) ㆍ메추리알어묵조림(1.5.6.13) ㆍ배추김치(9) ㆍ모닝빵&딸기쨈(1.2.5.6.13) ㆍ초코우유(2) | K6: ㆍ찹쌀밥 ㆍ계란파국(1) ㆍ베이컨감자채볶음(5.10) ㆍ삼겹김치볶음(9.10) ㆍ깍두기(9) ㆍ생크림크로칸슈♥(1.2.5.6) ㆍ시리얼_(첵스/콘푸)(2.5.6)
C7: 식재료 | G7: 원산지 | H7: 원산지 | I7: 원산지 | J7: 원산지 | K7: 원산지
C8: 쇠고기(종류)/가공품 | G8: 국내산(한우)/국내산 | H8: 국내산(한우)/국내산 | I8: 국내산(한우)/국내산 | J8: 국내산(한우)/국내산 | K8: 국내산(한우)/국내산
C9: 돼지고기/가공품 | G9: 국내산/국내산 | H9: 국내산/국내산 | I9: 국내산/국내산 | J9: 국내산/국내산 | K9: 국내산/국내산
C10: 닭고기/가공품 | G10: 국내산/국내산 | H10: 국내산/국내산 | I10: 국내산/국내산 | J10: 국내산/국내산 | K10: 국내산/국내산
C11: 오리고기/가공품 | G11: 국내산/국내산 | H11: 국내산/국내산 | I11: 국내산/국내산 | J11: 국내산/국내산 | K11: 국내산/국내산
C12: 1) 쌀/가공품 | G12: 국내산 | H12: 국내산 | I12: 국내산 | J12: 국내산 | K12: 국내산
C13: 2) 배추/가공품 | G13: 국내산 | H13: 국내산 | I13: 국내산 | J13: 국내산 | K13: 국내산
C14: 3) 고춧가루/가공품 | G14: 국내산 | H14: 국내산 | I14: 국내산 | J14: 국내산 | K14: 국내산
C15: 4) 콩/가공품 | G15: 국내산 | H15: 국내산 | I15: 국내산 | J15: 국내산 | K15: 국내산
C16: 낙지/가공품 | G16: 국내산 | H16: 국내산 | I16: 국내산 | J16: 국내산 | K16: 국내산
C17: 명태/가공품 | G17: 국내산 | H17: 국내산 | I17: 국내산 | J17: 국내산 | K17: 국내산
C18: 고등어/가공품 | G18: 국내산 | H18: 국내산 | I18: 국내산 | J18: 국내산 | K18: 국내산
... C22: 참조기/가공품 | G22: 국내산 | H22: 국내산 | I22: 국내산 | J22: 국내산 | K22: 국내산
C23: 영양소 | D23: 평균 필요량 | E23: 권장 섭취량 | F23: 주평균 섭취량 | G23: 영양량 | H23: 영양량 | I23: 영양량 | J23: 영양량 | K23: 영양량
C24: 에너지(kcal) | D24: 673.89 | E24: 673.89 | F24: 34.41 | G24: 602.31 | H24: 1255.59 | I24: 1080.93 | J24: 733.84 | K24: 856.09
C25: 탄수화물(g) | D25: 0 | E25: 0 | F25: 52.24 | G25: 70.15 | H25: 139.7 | I25: 164.23 | J25: 112.62 | K25: 101.36
C26: 단백질(g) | D26: 18.45 | E26: 18.45 | F26: 17.41 | G26: 41.67 | H26: 39.29 | I26: 53.05 | J26: 30.61 | K26: 31.39
C27: 지방(g) | D27: 0 | E27: 0 | F27: 30.35 | G27: 15.48 | H27: 59.52 | I27: 24.89 | J27: 17.07 | K27: 34.89
C28: 비타민A(mg) | D28: 151.03 | E28: 218.38 | F28: 216.05 | G28: 66.67 | H28: 107.15 | I28: 492.86 | J28: 199.09 | K28: 214.5
C29: 티아민(mg) | D29: 0.3 | E29: 0.37 | F29: 0.59 | G29: 0.27 | H29: 0.46 | I29: 1.28 | J29: 0.24 | K29: 0.68
C30: 리보플라빈(mg) | D30: 0.34 | E30: 0.41 | F30: 0.66 | G30: 0.41 | H30: 0.33 | I30: 1.23 | J30: 0.58 | K30: 0.76
C31: 비타민C(mg) | D31: 26.61 | E31: 33.4 | F31: 13.74 | G31: 8.47 | H31: 3.78 | I31: 26.09 | J31: 3.5 | K31: 26.88
C32: 칼슘(mg) | D32: 232.14 | E32: 266.09 | F32: 382.23 | G32: 539.26 | H32: 182.21 | I32: 378.43 | J32: 392.24 | K32: 418.99
C33: 철분(mg) | D33: 3.67 | E33: 4.67 | F33: 5.08 | G33: 6.79 | H33: 3.17 | I33: 6.41 | J33: 4.98 | K33: 4.05
B35: ※ 에너지는 권장섭취량의 ±10%, 구성비는 탄수화물(55~65%) : 단백질(7~20%) : 지방(15~30%) ※ 주평균 섭취량(비타민A, 티아민, 리보플라빈, 비타민C, 칼슘, 철) : 주간영양량의 합 / 식단일수 ※ 주평균 에너지비율 - 에너지(kcal) : {(주간영양량의 합 / 식단일수) - 학교자체영양기준량의 에너지} / 학교자체영양기준의 에너지 x 100 - 탄수화물 : (주평균 탄수화물 섭취량 x 4) / {(주평균 탄수화물 섭취량 x 4) + (주평균 단백질 섭취량 x 4) + (주평균 지방 섭취량 x 9)} x 100 * 단백질/지방 : 탄수화물과 동일한 산식 적용(1g당 에너지(kcal)는 탄수화물 4, 단백질 4, 지방 9kcal로 환산)
B36: * 식재료 원산지
C37: 1) 쌀: 밥, 죽, 누룽지에 사용하는 쌀/쌀가공품(쌀에는 찹쌀, 현미, 흑미 및 찐쌀을 포함) 2) 배추: 배추김치, 겉절이, 백김치, 보쌈김치, 배추김치가공품 등에사용하는 배추/얼갈이배추/봄동배추 3) 고춧가루: 배추김치, 겉절이, 보쌈김치, 배추김치가공품 등에 사용하는 고춧가루 4) 콩/콩가공품: 두부류, 콩비지, 콩국수에 사용하는 콩/콩가공품 5) 명태: 황태, 북어 등 건조한 것은 제외 ※ 2023.7.1.부터 25~29번 추가(「원산지표시법 시행령」제3조)
B38: * 알레르기 정보
B39: 1.난류 2.우유 3.메밀 4.땅콩 5.대두 6.밀 7.고등어 8.게 9.새우 10.돼지고기 11.복숭아 12.토마토 13.아황산류 14.호두 15.닭고기 16.쇠고기 17.오징어 18.조개류(굴, 전복, 홍합 포함) 19.잣

Sheet 중식
C2: 학교급식 식재료 원산지 및 영양표시제
C4: 북일여자고등학교 | J4: (중식)
C5: 주간 학교급식 영양량 | G5: 10월 19일(월) | H5: 10월 20일(화) | I5: 10월 21일(수) | J5: 10월 22일(목) | K5: 10월 23일(금)♠
G6: ㆍ기장밥 ㆍ한방닭곰탕(15) ㆍ고구마순나물볶음(5.6.13) ㆍ새송이버섯전(1.5) ㆍ두툼떡갈비&어린잎(5.6.10.12.13.15.16.18) ㆍ배추김치(9) ㆍ설빙다크초코넛츠♥(2.4.14.19) | H6: ㆍ쇠고기볶음밥(1.2.5.6.10.15.16) ㆍ맑은콩나물국(5.8.9.18) ㆍ오이피클 ㆍ계란말이&케찹(1.5.12) ㆍ배추김치(9) ㆍ파인애플 ㆍ피자토스트(수제)♥(1.2.5.6.10.12.13.15.16) | I6: ㆍ쌀국수♥(1.2.5.6.13.16) ㆍ과일샐러드(요거트드레싱)(2.5.6.12.13) ㆍ새우짜조롤&칠리S(1.5.6.9.12.13) ㆍ흰밥&김자반(자율)(5) ㆍ깍두기(9) ㆍ레몬에이드 ㆍ반미핫도그(1.2.5.6.10.12.13.15.16.18) | J6: ㆍ현미밥 ㆍ우거지된장국(5.6.13.16) ㆍ숙주나물무침 ㆍ치즈닭갈비(2.5.6.15) ㆍ깻잎전&초간장(1.5.6.10.15.16) ㆍ배추김치(9) ㆍ사과 | K6: ㆍ누룽지탕 ㆍ오므라이스&데미S(1.2.5.6.10.12.13.15.16) ㆍ목살찹스테이크(5.6.10.12.13.16) ㆍ스마일감자&케찹(5.6.12) ㆍ깍두기(9) ㆍ사과데이 ★ 사과주스(13)
C7: 식재료 | G7: 원산지 | H7: 원산지 | I7: 원산지 | J7: 원산지 | K7: 원산지
C8: 쇠고기(종류)/가공품 | G8: 국내산(한우)/국내산 | H8: 국내산(한우)/국내산 | I8: 국내산(한우)/국내산 | J8: 국내산(한우)/국내산 | K8: 국내산(한우)/국내산
C9: 돼지고기/가공품 | G9: 국내산/국내산 | H9: 국내산/국내산 | I9: 국내산/국내산 | J9: 국내산/국내산 | K9: 국내산/국내산
C10: 닭고기/가공품 | G10: 국내산/국내산 | H10: 국내산/국내산 | I10: 국내산/국내산 | J10: 국내산/국내산 | K10: 국내산/국내산
C11: 오리고기/가공품 | G11: 국내산/국내산 | H11: 국내산/국내산 | I11: 국내산/국내산 | J11: 국내산/국내산 | K11: 국내산/국내산
C12: 1) 쌀/가공품 | G12: 국내산 | H12: 국내산 | I12: 국내산 | J12: 국내산 | K12: 국내산
C13: 2) 배추/가공품 | G13: 국내산 | H13: 국내산 | I13: 국내산 | J13: 국내산 | K13: 국내산
C14: 3) 고춧가루/가공품 | G14: 국내산 | H14: 국내산 | I14: 국내산 | J14: 국내산 | K14: 국내산
C15: 4) 콩/가공품 | G15: 국내산 | H15: 국내산 | I15: 국내산 | J15: 국내산 | K15: 국내산
C16: 낙지/가공품 | G16: 국내산 | H16: 국내산 | I16: 국내산 | J16: 국내산 | K16: 국내산
C17: 명태/가공품 | G17: 국내산 | H17: 국내산 | I17: 국내산 | J17: 국내산 | K17: 국내산
C18: 고등어/가공품 | G18: 국내산 | H18: 국내산 | I18: 국내산 | J18: 국내산 | K18: 국내산
... C22: 참조기/가공품 | G22: 국내산 | H22: 국내산 | I22: 국내산 | J22: 국내산 | K22: 국내산
C23: 영양소 | D23: 평균 필요량 | E23: 권장 섭취량 | F23: 주평균 섭취량 | G23: 영양량 | H23: 영양량 | I23: 영양량 | J23: 영양량 | K23: 영양량
C24: 에너지(kcal) | D24: 673.89 | E24: 673.89 | F24: 40.16 | G24: 919.55 | H24: 698.68 | I24: 1072.36 | J24: 912.9 | K24: 1119.2
C25: 탄수화물(g) | D25: 0 | E25: 0 | F25: 56.46 | G25: 135.35 | H25: 97.15 | I25: 174.59 | J25: 121.54 | K25: 133.08
C26: 단백질(g) | D26: 18.45 | E26: 18.45 | F26: 14.78 | G26: 30.36 | H26: 30.9 | I26: 33.62 | J26: 44.21 | K26: 34.09
C27: 지방(g) | D27: 0 | E27: 0 | F27: 28.76 | G27: 27.75 | H27: 18.79 | I27: 28.32 | J27: 26.05 | K27: 48.88
C28: 비타민A(mg) | D28: 151.03 | E28: 218.38 | F28: 147.59 | G28: 50.62 | H28: 206.44 | I28: 115.06 | J28: 237.59 | K28: 128.26
C29: 티아민(mg) | D29: 0.3 | E29: 0.37 | F29: 1.46 | G29: 1.64 | H29: 0.43 | I29: 0.72 | J29: 0.63 | K29: 3.88
C30: 리보플라빈(mg) | D30: 0.34 | E30: 0.41 | F30: 0.62 | G30: 0.44 | H30: 0.54 | I30: 0.97 | J30: 0.54 | K30: 0.6
C31: 비타민C(mg) | D31: 26.61 | E31: 33.4 | F31: 29.44 | G31: 5.73 | H31: 26.45 | I31: 21.4 | J31: 10.81 | K31: 82.82
C32: 칼슘(mg) | D32: 232.14 | E32: 266.09 | F32: 209.24 | G32: 208.52 | H32: 252.61 | I32: 204.28 | J32: 288.46 | K32: 92.34
C33: 철분(mg) | D33: 3.67 | E33: 4.67 | F33: 4.09 | G33: 4.84 | H33: 3.43 | I33: 4.98 | J33: 4.37 | K33: 2.84
B35: ※ 에너지는 권장섭취량의 ±10%, 구성비는 탄수화물(55~65%) : 단백질(7~20%) : 지방(15~30%) ※ 주평균 섭취량(비타민A, 티아민, 리보플라빈, 비타민C, 칼슘, 철) : 주간영양량의 합 / 식단일수 ※ 주평균 에너지비율 - 에너지(kcal) : {(주간영양량의 합 / 식단일수) - 학교자체영양기준량의 에너지} / 학교자체영양기준의 에너지 x 100 - 탄수화물 : (주평균 탄수화물 섭취량 x 4) / {(주평균 탄수화물 섭취량 x 4) + (주평균 단백질 섭취량 x 4) + (주평균 지방 섭취량 x 9)} x 100 * 단백질/지방 : 탄수화물과 동일한 산식 적용(1g당 에너지(kcal)는 탄수화물 4, 단백질 4, 지방 9kcal로 환산)
B36: * 식재료 원산지
C37: 1) 쌀: 밥, 죽, 누룽지에 사용하는 쌀/쌀가공품(쌀에는 찹쌀, 현미, 흑미 및 찐쌀을 포함) 2) 배추: 배추김치, 겉절이, 백김치, 보쌈김치, 배추김치가공품 등에사용하는 배추/얼갈이배추/봄동배추 3) 고춧가루: 배추김치, 겉절이, 보쌈김치, 배추김치가공품 등에 사용하는 고춧가루 4) 콩/콩가공품: 두부류, 콩비지, 콩국수에 사용하는 콩/콩가공품 5) 명태: 황태, 북어 등 건조한 것은 제외 ※ 2023.7.1.부터 25~29번 추가(「원산지표시법 시행령」제3조)
B38: * 알레르기 정보
B39: 1.난류 2.우유 3.메밀 4.땅콩 5.대두 6.밀 7.고등어 8.게 9.새우 10.돼지고기 11.복숭아 12.토마토 13.아황산류 14.호두 15.닭고기 16.쇠고기 17.오징어 18.조개류(굴, 전복, 홍합 포함) 19.잣

Sheet 석식
C2: 학교급식 식재료 원산지 및 영양표시제
C4: 북일여자고등학교 | J4: (석식)
C5: 주간 학교급식 영양량 | G5: 10월 19일(월) | H5: 10월 20일(화) | I5: 10월 21일(수) | J5: 10월 22일(목) | K5: 10월 23일(금) | AJ5: =석식!K6=석식!K6 -> TRUE
G6: ㆍ꼬치어묵우동(1.5.6.9.13) ㆍ양상추샐러드/흑임자드레싱(1.5.12.13) ㆍ돈까스김치나베♥(1.2.5.6.7.9.10.13.18) ㆍ흰밥&김자반(자율)(5) ㆍ단무지 ㆍ배 | H6: ㆍ찹쌀밥 ㆍ꽃게된장국(5.6.8) ㆍ양배추쌈/쌈장(5.6) ㆍ오삼불고기(5.6.10.13.17) ㆍ뿌링치즈볼♥(1.2.5.6.13) ㆍ보쌈김치(9) | I6: ㆍ콩나물밥&양념장(5.6.16) ㆍ뼈없는감자탕(5.6.10) ㆍ간장닭봉조림(1.5.6.13.15.18) ㆍ야채달걀찜(1.2.9) ㆍ배추김치(9) ㆍ초코크레이프케이크♥(1.2.5.6) | J6: ㆍ고기짬뽕♥(2.5.6.9.10.17.18) ㆍ단무지무침(13) ㆍ오이맛살냉채(1.5.6.8.13) ㆍ레몬크림새우(1.2.5.6.9.13) ㆍ흰밥&김자반(자율)(5) ㆍ깍두기(9) | K6: ㆍ찹쌀밥 ㆍ상추&쌈장(5.6.13) ㆍ오징어김치전(1.5.6.9.17) ㆍ도시락김 ㆍ큐브족발♥(5.6.10) ㆍ깍두기(9) ㆍ당이제로주스(13)
C7: 식재료 | G7: 원산지 | H7: 원산지 | I7: 원산지 | J7: 원산지 | K7: 원산지
C8: 쇠고기(종류)/가공품 | G8: 국내산(한우)/국내산 | H8: 국내산(한우)/국내산 | I8: 국내산(한우)/국내산 | J8: 국내산(한우)/국내산 | K8: 국내산(한우)/국내산
C9: 돼지고기/가공품 | G9: 국내산/국내산 | H9: 국내산/국내산 | I9: 국내산/국내산 | J9: 국내산/국내산 | K9: 국내산/국내산
C10: 닭고기/가공품 | G10: 국내산/국내산 | H10: 국내산/국내산 | I10: 국내산/국내산 | J10: 국내산/국내산 | K10: 국내산/국내산
C11: 오리고기/가공품 | G11: 국내산/국내산 | H11: 국내산/국내산 | I11: 국내산/국내산 | J11: 국내산/국내산 | K11: 국내산/국내산
C12: 1) 쌀/가공품 | G12: 국내산 | H12: 국내산 | I12: 국내산 | J12: 국내산 | K12: 국내산
C13: 2) 배추/가공품 | G13: 국내산 | H13: 국내산 | I13: 국내산 | J13: 국내산 | K13: 국내산
C14: 3) 고춧가루/가공품 | G14: 국내산 | H14: 국내산 | I14: 국내산 | J14: 국내산 | K14: 국내산
C15: 4) 콩/가공품 | G15: 국내산 | H15: 국내산 | I15: 국내산 | J15: 국내산 | K15: 국내산
C16: 낙지/가공품 | G16: 국내산 | H16: 국내산 | I16: 국내산 | J16: 국내산 | K16: 국내산
C17: 명태/가공품 | G17: 국내산 | H17: 국내산 | I17: 국내산 | J17: 국내산 | K17: 국내산
C18: 고등어/가공품 | G18: 국내산 | H18: 국내산 | I18: 국내산 | J18: 국내산 | K18: 국내산
... C22: 참조기/가공품 | G22: 국내산 | H22: 국내산 | I22: 국내산 | J22: 국내산 | K22: 국내산
C23: 영양소 | D23: 평균 필요량 | E23: 권장 섭취량 | F23: 주평균 섭취량 | G23: 영양량 | H23: 영양량 | I23: 영양량 | J23: 영양량 | K23: 영양량
C24: 에너지(kcal) | D24: 673.89 | E24: 673.89 | F24: 33.28 | G24: 1003.18 | H24: 902.21 | I24: 858.01 | J24: 952.95 | K24: 774.43
C25: 탄수화물(g) | D25: 0 | E25: 0 | F25: 41.42 | G25: 103.26 | H25: 75.46 | I25: 91.03 | J25: 104.92 | K25: 88.32
C26: 단백질(g) | D26: 18.45 | E26: 18.45 | F26: 19.68 | G26: 36.54 | H26: 60.62 | I26: 50.18 | J26: 32.91 | K26: 39.73
C27: 지방(g) | D27: 0 | E27: 0 | F27: 38.9 | G27: 50.27 | H27: 38.5 | I27: 30.23 | J27: 47.94 | K27: 26.35
C28: 비타민A(mg) | D28: 151.03 | E28: 218.38 | F28: 225.9 | G28: 183.24 | H28: 104.82 | I28: 298.05 | J28: 367.39 | K28: 175.99
C29: 티아민(mg) | D29: 0.3 | E29: 0.37 | F29: 0.49 | G29: 0.51 | H29: 0.64 | I29: 0.65 | J29: 0.43 | K29: 0.24
C30: 리보플라빈(mg) | D30: 0.34 | E30: 0.41 | F30: 0.6 | G30: 0.51 | H30: 0.54 | I30: 0.9 | J30: 0.45 | K30: 0.6
C31: 비타민C(mg) | D31: 26.61 | E31: 33.4 | F31: 17.83 | G31: 16.24 | H31: 19.88 | I31: 9.71 | J31: 31.77 | K31: 11.54
C32: 칼슘(mg) | D32: 232.14 | E32: 266.09 | F32: 340.55 | G32: 527.22 | H32: 401.39 | I32: 250.26 | J32: 344.97 | K32: 178.91
C33: 철분(mg) | D33: 3.67 | E33: 4.67 | F33: 5 | G33: 6.55 | H33: 3.77 | I33: 5.68 | J33: 5.94 | K33: 3.06
B35: ※ 에너지는 권장섭취량의 ±10%, 구성비는 탄수화물(55~65%) : 단백질(7~20%) : 지방(15~30%) ※ 주평균 섭취량(비타민A, 티아민, 리보플라빈, 비타민C, 칼슘, 철) : 주간영양량의 합 / 식단일수 ※ 주평균 에너지비율 - 에너지(kcal) : {(주간영양량의 합 / 식단일수) - 학교자체영양기준량의 에너지} / 학교자체영양기준의 에너지 x 100 - 탄수화물 : (주평균 탄수화물 섭취량 x 4) / {(주평균 탄수화물 섭취량 x 4) + (주평균 단백질 섭취량 x 4) + (주평균 지방 섭취량 x 9)} x 100 * 단백질/지방 : 탄수화물과 동일한 산식 적용(1g당 에너지(kcal)는 탄수화물 4, 단백질 4, 지방 9kcal로 환산)
B36: * 식재료 원산지
C37: 1) 쌀: 밥, 죽, 누룽지에 사용하는 쌀/쌀가공품(쌀에는 찹쌀, 현미, 흑미 및 찐쌀을 포함) 2) 배추: 배추김치, 겉절이, 백김치, 보쌈김치, 배추김치가공품 등에사용하는 배추/얼갈이배추/봄동배추 3) 고춧가루: 배추김치, 겉절이, 보쌈김치, 배추김치가공품 등에 사용하는 고춧가루 4) 콩/콩가공품: 두부류, 콩비지, 콩국수에 사용하는 콩/콩가공품 5) 명태: 황태, 북어 등 건조한 것은 제외 ※ 2023.7.1.부터 25~29번 추가(「원산지표시법 시행령」제3조)
B38: * 알레르기 정보
B39: 1.난류 2.우유 3.메밀 4.땅콩 5.대두 6.밀 7.고등어 8.게 9.새우 10.돼지고기 11.복숭아 12.토마토 13.아황산류 14.호두 15.닭고기 16.쇠고기 17.오징어 18.조개류(굴, 전복, 홍합 포함) 19.잣
